BEGIN:VCALENDAR
VERSION:2.0
PRODID:-//ChamberMaster//Event Calendar 2.0//EN
METHOD:PUBLISH
X-PUBLISHED-TTL:P3D
REFRESH-INTERVAL:P3D
CALSCALE:GREGORIAN
BEGIN:VEVENT
DTSTART:20170328T000000Z
DTEND:20170328T030000Z
X-MICROSOFT-CDO-ALLDAYEVENT:FALSE
SUMMARY:Enjoy Music at the Press Room performed by Dry Martini\, a Jazz Trio
DESCRIPTION:Drummer Terry MacDonald's jazz trio Dry Martini has established a loyal\, enthusiastic following. Along with the drummer\, the group includes guitarist/composer Marion Campos-Gullotti and bassist Jeff Lind. Its repertoire is described as a special mix of American standards\, jazz classics\, Latin gems\, some funk\, and a number of originals by Marion.
X-ALT-DESC;FMTTYPE=text/html:Drummer Terry MacDonald&rsquo\;s jazz trio Dry Martini has established a loyal\, enthusiastic following. Along with the drummer\, the group includes guitarist/composer Marion Campos-Gullotti and bassist Jeff Lind. Its repertoire is described as a special mix of American standards\, jazz classics\, Latin gems\, some funk\, and a number of originals by Marion.
LOCATION:The Press Room 77 Daniel Street Portsmouth\, NH
UID:e.1659.30097
SEQUENCE:3
DTSTAMP:20260421T164231Z
URL:https://business.portsmouthchamber.org/events/details/enjoy-music-at-the-press-room-performed-by-dry-martini-a-jazz-trio-30097
END:VEVENT

END:VCALENDAR
