BEGIN:VCALENDAR
VERSION:2.0
PRODID:-//ChamberMaster//Event Calendar 2.0//EN
METHOD:PUBLISH
X-PUBLISHED-TTL:P3D
REFRESH-INTERVAL:P3D
CALSCALE:GREGORIAN
BEGIN:VEVENT
DTSTART:20131116T000000Z
DTEND:20131116T030000Z
X-MICROSOFT-CDO-ALLDAYEVENT:FALSE
SUMMARY:Event at Captain and Patty's
DESCRIPTION:Stop Tito Collective\, live in the lounge!
X-ALT-DESC;FMTTYPE=text/html:Stop Tito Collective\, live in the lounge!
LOCATION:
UID:e.1659.748
SEQUENCE:3
DTSTAMP:20260420T055710Z
URL:https://business.portsmouthchamber.org/events/details/event-at-captain-and-patty-s-11-15-2013-748
END:VEVENT

END:VCALENDAR
