BEGIN:VCALENDAR
VERSION:2.0
PRODID:-//ChamberMaster//Event Calendar 2.0//EN
METHOD:PUBLISH
X-PUBLISHED-TTL:P3D
REFRESH-INTERVAL:P3D
CALSCALE:GREGORIAN
BEGIN:VEVENT
DTSTART:20131117T000000Z
DTEND:20131117T030000Z
X-MICROSOFT-CDO-ALLDAYEVENT:FALSE
SUMMARY:Event at Captain and Patty's
DESCRIPTION:The Charlie Keating Band\, live in the lounge!
X-ALT-DESC;FMTTYPE=text/html:The Charlie Keating Band\, live in the lounge!
LOCATION:
UID:e.1659.749
SEQUENCE:3
DTSTAMP:20260420T055547Z
URL:https://business.portsmouthchamber.org/events/details/event-at-captain-and-patty-s-11-16-2013-749
END:VEVENT

END:VCALENDAR
