BEGIN:VCALENDAR
VERSION:2.0
PRODID:-//ChamberMaster//Event Calendar 2.0//EN
METHOD:PUBLISH
X-PUBLISHED-TTL:P3D
REFRESH-INTERVAL:P3D
CALSCALE:GREGORIAN
BEGIN:VEVENT
DTSTART:20131121T223000Z
DTEND:20131122T013000Z
X-MICROSOFT-CDO-ALLDAYEVENT:FALSE
SUMMARY:Event at Captain and Patty's
DESCRIPTION:Dag Shaw\, live in the lounge!
X-ALT-DESC;FMTTYPE=text/html:Dag Shaw\, live in the lounge!
LOCATION:
UID:e.1659.750
SEQUENCE:3
DTSTAMP:20260420T055016Z
URL:https://business.portsmouthchamber.org/events/details/event-at-captain-and-patty-s-11-21-2013-750
END:VEVENT

END:VCALENDAR
