BEGIN:VCALENDAR
VERSION:2.0
PRODID:-//ChamberMaster//Event Calendar 2.0//EN
METHOD:PUBLISH
X-PUBLISHED-TTL:P3D
REFRESH-INTERVAL:P3D
CALSCALE:GREGORIAN
BEGIN:VEVENT
DTSTART:20131219T223000Z
DTEND:20131220T013000Z
X-MICROSOFT-CDO-ALLDAYEVENT:FALSE
SUMMARY:Event at Captain and Patty's
DESCRIPTION:Jimmy D.\, live in the lounge!
X-ALT-DESC;FMTTYPE=text/html:Jimmy D.\, live in the lounge!
LOCATION:
UID:e.1659.752
SEQUENCE:3
DTSTAMP:20260420T043253Z
URL:https://business.portsmouthchamber.org/events/details/event-at-captain-and-patty-s-12-19-2013-752
END:VEVENT

END:VCALENDAR
