BEGIN:VCALENDAR
VERSION:2.0
PRODID:-//ChamberMaster//Event Calendar 2.0//EN
METHOD:PUBLISH
X-PUBLISHED-TTL:P3D
REFRESH-INTERVAL:P3D
CALSCALE:GREGORIAN
BEGIN:VEVENT
DTSTART:20130804T200000Z
DTEND:20130804T213000Z
X-MICROSOFT-CDO-ALLDAYEVENT:FALSE
SUMMARY:Event at Middle Street Baptist Church
DESCRIPTION:MAEVE-Summer Concert on the Lawn\n\nMaeve is a collaboration of three women artists-Courtney Reid\, Rachel Taylor & Rollyn Zoubek.  Blending together their own distinctive voices and styles to create a cohesive sound rich with harmony reminiscent of the Indigo Girls and Crosby\, Stills & Nash.\n\n- FREE\n\n- All are welcome!\n\n- Rain or Shine\n\n- Bring chairs to sit on or a blanket\n\n- Enjoy light refreshments
X-ALT-DESC;FMTTYPE=text/html:<span style="font-size: 20px"><span style="color: rgb(128\,0\,128)"><strong><span style="background-color: rgb(221\,160\,221)">MAEVE-Summer Concert on the Lawn</span></strong></span></span><br />\n<span style="color: #800080"><span style="font-size: 16px"><span style="font-size: 18px">Maeve is a collaboration of three women artists-Courtney Reid\, Rachel Taylor &amp\; Rollyn Zoubek.&nbsp\; Blending together their own distinctive voices and styles to create a cohesive sound rich with harmony reminiscent of the Indigo Girls and Crosby\, Stills &amp\; Nash</span>.</span></span><br />\n<span style="color: #800080"><span style="font-size: 16px"><strong>- FREE<br />\n- All are welcome!<br />\n- Rain or Shine<br />\n- Bring chairs to sit on or a blanket<br />\n- Enjoy light refreshments</strong></span></span><br />\n
LOCATION:Middle Street Baptist Church 18 Court Street\, Portsmouth NH 603-436-2337
UID:e.1659.526
SEQUENCE:3
DTSTAMP:20260420T100539Z
URL:https://business.portsmouthchamber.org/events/details/event-at-middle-street-baptist-church-08-04-2013-526
END:VEVENT

END:VCALENDAR
