BEGIN:VCALENDAR
VERSION:2.0
PRODID:-//ChamberMaster//Event Calendar 2.0//EN
METHOD:PUBLISH
X-PUBLISHED-TTL:P3D
REFRESH-INTERVAL:P3D
CALSCALE:GREGORIAN
BEGIN:VEVENT
DTSTART:20140906T120000Z
DTEND:20140906T203000Z
X-MICROSOFT-CDO-ALLDAYEVENT:FALSE
SUMMARY:Event at Portsmouth Fire Fighters Charitable Association
DESCRIPTION:Sarah's Ride & Bike Show is an annual memorial motorcycle ride created in 2010 as a way to raise funds and awareness for Sarah Fox a Portsmouth Firefighter fighting breast cancer.\n\n\n\nSarah lost her battle to cancer December 9th2011 but her brothers and the hundreds of people that were so deeply invested in helping her through her battle are continuing to work to spread her story and remember her as a mother\, sister\, daughter\, wife and firefighter.\n\n\n\nThrough the generous support of the community and the many sponsors Sarah's Ride & Bike Show is a growing success. Seacoast Harley-Davidson continues to host the ride and show. Their commitment to the firefighting family is truly inspirational.\n\n\n\nWe hope you can join us and support the Firefighters Charitable Association. Funds from the ride are used to provide scholarships to Camp Fully Involved where young women like Sarah can experience the fire service.  We also support many cancer awareness initiatives and make contributions to the needy in our community through an annual Toy Bank and other programs.  We are just your local Firefighters helping people both on the job and off when there is a need in the community. .\n\nPlease join us for the 5th Annual Ride and Bike Show September 6\, 2014. \n\n\n\nRegister Here
X-ALT-DESC;FMTTYPE=text/html:<p style="color: rgb(0\, 0\, 0)\; font-family: Verdana\, Arial\, Helvetica\, sans-serif\; background-color: rgb(236\, 236\, 236)\;"><span style="font-family:georgia\;"><span style="font-size:18.0pt\;"><a href="http://www.sarahsride.org">Sarah&rsquo\;s Ride &amp\; Bike Show</a> is an annual memorial motorcycle ride created in 2010 as a way to raise funds and awareness for Sarah Fox a Portsmouth Firefighter fighting breast cancer.</span></span><br />\n<br />\n<span style="font-family:georgia\;"><span style="font-size:18.0pt\;">Sarah lost her battle to cancer December </span></span><span style="font-family:georgia\;"><span style="font-size:18.0pt\;">9</span></span><sup><span style="font-family:georgia\;"><span style="font-size:15.0pt\;">th</span></span></sup><span style="font-family:georgia\;"><span style="font-size:18.0pt\;">2011 but her brothers and the hundreds of people that were so deeply invested in helping her through her battle are continuing to work to spread her story and remember her as a mother\, sister\, daughter\, wife and firefighter.</span></span><br />\n<br />\n<span style="font-family:georgia\;"><span style="font-size:18.0pt\;">Through the generous support of the community and the many sponsors Sarah&rsquo\;s Ride &amp\; Bike Show is a growing success. Seacoast Harley-Davidson continues to host the ride and show. Their commitment to the firefighting family is truly inspirational.</span></span><br />\n<br />\n<span style="font-family:georgia\;"><span style="font-size:18.0pt\;">We hope you can join us and support the <a href="http://www.pffca.org/index.cfm">Firefighters Charitable Association</a>. Funds from the ride are used to provide scholarships to Camp Fully Involved where young women like Sarah can experience the fire service. &nbsp\;We also support many cancer awareness initiatives and make contributions to the needy in our community through an annual Toy Bank and other programs. &nbsp\;We are just your local Firefighters helping people both on the job and off when there is a need in the community. .</span></span><br />\n<span style="font-family:georgia\;"><span style="font-size:18.0pt\;">Please join us for the 5th Annual Ride and Bike Show September 6\, 2014.&nbsp\;<br />\n<br />\n<a href="https://secure.unasecure.net/pffca/IAFFMG_rideforsarah_2014.cfm">Register Here</a></span></span></p>\n
LOCATION:Seacoast Harley Davidson\, 17 Lafayette Road\, North Hampton NH
UID:e.1659.2953
SEQUENCE:3
DTSTAMP:20260419T162046Z
URL:https://business.portsmouthchamber.org/events/details/event-at-portsmouth-fire-fighters-charitable-association-09-06-2014-2953
END:VEVENT

END:VCALENDAR
