BEGIN:VCALENDAR
VERSION:2.0
PRODID:-//ChamberMaster//Event Calendar 2.0//EN
METHOD:PUBLISH
X-PUBLISHED-TTL:P3D
REFRESH-INTERVAL:P3D
CALSCALE:GREGORIAN
BEGIN:VEVENT
DTSTART:20140921T150000Z
DTEND:20140921T190000Z
X-MICROSOFT-CDO-ALLDAYEVENT:FALSE
SUMMARY:Event at Silver Fountain Inn
DESCRIPTION:Author's Book Signing Event and Tea Luncheon. Four local authors from AMITY Publications will be sharing thier journeys\, signing books\, responding to questions while you are also enjoying a 4 course lunch with your choice of tea\, entertainment and door prizes. Please register directly on-line through our website or call 603-750-4200! Two seatings 11am or 1:30pm spaces are limited to 20 per seating.
X-ALT-DESC;FMTTYPE=text/html:Author&#39\;s Book Signing Event and Tea Luncheon. Four local authors from AMITY Publications will be sharing thier journeys\, signing books\, responding to questions while you are also enjoying a 4 course lunch with your choice of tea\, entertainment and door prizes. Please register directly on-line through our website or call 603-750-4200! Two seatings 11am or 1:30pm spaces are limited to 20 per seating.
LOCATION:Silver Fountain Inn
UID:e.1659.2983
SEQUENCE:3
DTSTAMP:20260419T175032Z
URL:https://business.portsmouthchamber.org/events/details/event-at-silver-fountain-inn-09-21-2014-2983
END:VEVENT

END:VCALENDAR
