BEGIN:VCALENDAR
VERSION:2.0
PRODID:-//ChamberMaster//Event Calendar 2.0//EN
METHOD:PUBLISH
X-PUBLISHED-TTL:P3D
REFRESH-INTERVAL:P3D
CALSCALE:GREGORIAN
BEGIN:VEVENT
DTSTART:20131005T160000Z
DTEND:20131005T200000Z
X-MICROSOFT-CDO-ALLDAYEVENT:FALSE
SUMMARY:Exeter Powderkeg Beer and Chili Festival
DESCRIPTION:Join us October 5th for our second annual Exeter Powderkeg Beer and Chili Festival being hosted alongside Swasey Parkway. Craft breweries from all around the U.S. including Shipyard\, Redhook\, Samuel Adams\, Long Trail\, Magic Hat\, 603 Brewery and more will be participating handing out their finest\, frothy cold brews! Don't for get to bring your appetite! Local Seacoast restaurants will be cookin' up their specialty chili recipes for you to try and vote on! Don't miss out on this fantastic family friendly event to kick off the month of October the right way!
X-ALT-DESC;FMTTYPE=text/html:Join us October 5th for our second annual Exeter Powderkeg Beer and Chili Festival being hosted alongside Swasey Parkway. Craft breweries from all around the U.S. including Shipyard\, Redhook\, Samuel Adams\, Long Trail\, Magic Hat\, 603 Brewery and more will be participating handing out their finest\, frothy cold brews! Don&#39\;t for get to bring your appetite! Local Seacoast restaurants will be cookin&#39\; up their specialty chili recipes for you to try and vote on! Don&#39\;t miss out on this fantastic family friendly event to kick off the month of October the right way! 
LOCATION:Swasey Parkway
UID:e.1659.594
SEQUENCE:3
DTSTAMP:20260420T074935Z
URL:https://business.portsmouthchamber.org/events/details/exeter-powderkeg-beer-and-chili-festival-10-05-2013-594
END:VEVENT

END:VCALENDAR
