BEGIN:VCALENDAR
VERSION:2.0
PRODID:-//ChamberMaster//Event Calendar 2.0//EN
METHOD:PUBLISH
X-PUBLISHED-TTL:P3D
REFRESH-INTERVAL:P3D
CALSCALE:GREGORIAN
BEGIN:VEVENT
DTSTART:20160318T230000Z
DTEND:20160319T010000Z
X-MICROSOFT-CDO-ALLDAYEVENT:FALSE
SUMMARY:Extraordinary Cinema @ The Historic Theater: Son of Saul
DESCRIPTION:A stunner at Cannes\, winner of the Golden Globe for "Best Motion Picture - Foreign Language" and an Oscar Nominee\, this searing drama\, tells of a concentration camp inmate tasked with burning the dead\, discovers the body of his young son\, and must choose between participating in the clandestine uprising being planned among the prisoners\, or securing a proper Jewish burial for his child.\n\n\n\nR   1h47m   Hungary   Subtitled
X-ALT-DESC;FMTTYPE=text/html:<span style="color: rgb(102\, 102\, 102)\; font-family: 'Droid Sans'\, 'Lucida Grande'\, Arial\, sans-serif\; font-size: 16.8px\; line-height: 26.4px\;">A stunner at&nbsp\;</span><em style="color: rgb(102\, 102\, 102)\; font-family: 'Droid Sans'\, 'Lucida Grande'\, Arial\, sans-serif\; font-size: 16.8px\; line-height: 26.4px\;">Cannes</em><span style="color: rgb(102\, 102\, 102)\; font-family: 'Droid Sans'\, 'Lucida Grande'\, Arial\, sans-serif\; font-size: 16.8px\; line-height: 26.4px\;">\, winner of the&nbsp\;</span><em style="color: rgb(102\, 102\, 102)\; font-family: 'Droid Sans'\, 'Lucida Grande'\, Arial\, sans-serif\; font-size: 16.8px\; line-height: 26.4px\;">Golden Globe</em><span style="color: rgb(102\, 102\, 102)\; font-family: 'Droid Sans'\, 'Lucida Grande'\, Arial\, sans-serif\; font-size: 16.8px\; line-height: 26.4px\;">&nbsp\;for &ldquo\;Best Motion Picture - Foreign Language&rdquo\; and an&nbsp\;</span><em style="color: rgb(102\, 102\, 102)\; font-family: 'Droid Sans'\, 'Lucida Grande'\, Arial\, sans-serif\; font-size: 16.8px\; line-height: 26.4px\;">Oscar</em><span style="color: rgb(102\, 102\, 102)\; font-family: 'Droid Sans'\, 'Lucida Grande'\, Arial\, sans-serif\; font-size: 16.8px\; line-height: 26.4px\;">&nbsp\;Nominee\, this searing drama\, tells of a concentration camp inmate tasked with burning the dead\, discovers the body of his young son\, and must choose between participating in the clandestine uprising being planned among the prisoners\, or securing a proper Jewish burial for his child.</span><br />\n<br style="color: rgb(102\, 102\, 102)\; font-family: 'Droid Sans'\, 'Lucida Grande'\, Arial\, sans-serif\; font-size: 16.8px\; line-height: 26.4px\;" />\n<strong style="color: rgb(102\, 102\, 102)\; font-family: 'Droid Sans'\, 'Lucida Grande'\, Arial\, sans-serif\; font-size: 16.8px\; line-height: 26.4px\;">R &bull\; 1h47m &bull\; Hungary &bull\; Subtitled</strong>
LOCATION:The Music Hall 28 Chestnut Street\, Portsmouth
UID:e.1659.16704
SEQUENCE:3
DTSTAMP:20260420T150626Z
URL:https://business.portsmouthchamber.org/events/details/extraordinary-cinema-the-historic-theater-son-of-saul-03-18-2016-16704
END:VEVENT

END:VCALENDAR
