BEGIN:VCALENDAR
VERSION:2.0
PRODID:-//ChamberMaster//Event Calendar 2.0//EN
METHOD:PUBLISH
X-PUBLISHED-TTL:P3D
REFRESH-INTERVAL:P3D
CALSCALE:GREGORIAN
BEGIN:VEVENT
DTSTART:20160311T000000Z
DTEND:20160311T020000Z
X-MICROSOFT-CDO-ALLDAYEVENT:FALSE
SUMMARY:Extraordinary Cinema @ The Historic Theater: The Lady in the Van
DESCRIPTION:This film tells the true story of the relationship between Alan Bennett (writer of History Boys and The Habit of Art) and the singular Miss Shepherd (played by Maggie Smith)\, a woman of uncertain origins who 'temporarily' parked her van in Bennett's London driveway and proceeded to live there for 15 years. Written by Alan Bennett\, who also plays Alan Bennett. Directed by The National Theatre's Nicholas Hytner.\n\n\n\nPG 13   1h44m   UK
X-ALT-DESC;FMTTYPE=text/html:<span style="color: rgb(102\, 102\, 102)\; font-family: 'Droid Sans'\, 'Lucida Grande'\, Arial\, sans-serif\; font-size: 16.8px\; line-height: 26.4px\;">This film tells the true story of the relationship between Alan Bennett (writer of&nbsp\;</span><em style="color: rgb(102\, 102\, 102)\; font-family: 'Droid Sans'\, 'Lucida Grande'\, Arial\, sans-serif\; font-size: 16.8px\; line-height: 26.4px\;">History Boys</em><span style="color: rgb(102\, 102\, 102)\; font-family: 'Droid Sans'\, 'Lucida Grande'\, Arial\, sans-serif\; font-size: 16.8px\; line-height: 26.4px\;">&nbsp\;and&nbsp\;</span><em style="color: rgb(102\, 102\, 102)\; font-family: 'Droid Sans'\, 'Lucida Grande'\, Arial\, sans-serif\; font-size: 16.8px\; line-height: 26.4px\;">The Habit of Art</em><span style="color: rgb(102\, 102\, 102)\; font-family: 'Droid Sans'\, 'Lucida Grande'\, Arial\, sans-serif\; font-size: 16.8px\; line-height: 26.4px\;">) and the singular Miss Shepherd (played by Maggie Smith)\, a woman of uncertain origins who &lsquo\;temporarily&rsquo\; parked her van in Bennett&rsquo\;s London driveway and proceeded to live there for 15 years. Written by Alan Bennett\, who also plays Alan Bennett. Directed by The National Theatre&rsquo\;s Nicholas Hytner.</span><br />\n<br style="color: rgb(102\, 102\, 102)\; font-family: 'Droid Sans'\, 'Lucida Grande'\, Arial\, sans-serif\; font-size: 16.8px\; line-height: 26.4px\;" />\n<strong style="color: rgb(102\, 102\, 102)\; font-family: 'Droid Sans'\, 'Lucida Grande'\, Arial\, sans-serif\; font-size: 16.8px\; line-height: 26.4px\;">PG 13 &bull\; 1h44m &bull\; UK</strong>
LOCATION:The Music Hall 28 Chestnut Street\, Portsmouth
UID:e.1659.16687
SEQUENCE:3
DTSTAMP:20260420T150554Z
URL:https://business.portsmouthchamber.org/events/details/extraordinary-cinema-the-historic-theater-the-lady-in-the-van-03-10-2016-16687
END:VEVENT

END:VCALENDAR
