BEGIN:VCALENDAR
VERSION:2.0
PRODID:-//ChamberMaster//Event Calendar 2.0//EN
METHOD:PUBLISH
X-PUBLISHED-TTL:P3D
REFRESH-INTERVAL:P3D
CALSCALE:GREGORIAN
BEGIN:VEVENT
DTSTART:20160108T000000Z
DTEND:20160108T020000Z
X-MICROSOFT-CDO-ALLDAYEVENT:FALSE
SUMMARY:Extraordinary Cinema @ The Historic Theater: The Martian
DESCRIPTION:During a manned mission to Mars\, astronaut Mark Watney (Matt Damon) is presumed dead after a fierce storm and left behind by his crew. But Watney has survived and finds himself stranded and alone on the hostile planet. With only meager supplies\, he must draw upon his ingenuity\, wit and spirit to subsist and find a way to signal to Earth that he is alive. Based on a bestselling novel\, and helmed by master director Ridley Scott\, the film features a star-studded cast that includes Jessica Chastain\, Kristen Wiig\, Kate Mara\, Michael Peña\, Jeff Daniels\, Chiwetel Ejiofor\, and Donald Glover.
X-ALT-DESC;FMTTYPE=text/html:<span style="color: rgb(102\, 102\, 102)\; font-family: 'Droid Sans'\, 'Lucida Grande'\, Arial\, sans-serif\; font-size: 16.8px\; line-height: 26.4px\;">During a manned mission to Mars\, astronaut Mark Watney (Matt Damon) is presumed dead after a fierce storm and left behind by his crew. But Watney has survived and finds himself stranded and alone on the hostile planet. With only meager supplies\, he must draw upon his ingenuity\, wit and spirit to subsist and find a way to signal to Earth that he is alive. Based on a bestselling novel\, and helmed by master director Ridley Scott\, the film features a star-studded cast that includes Jessica Chastain\, Kristen Wiig\, Kate Mara\, Michael Peña\, Jeff Daniels\, Chiwetel Ejiofor\, and Donald Glover.&nbsp\;</span>
LOCATION:The Music Hall 28 Chestnut Street\, Portsmouth
UID:e.1659.13421
SEQUENCE:3
DTSTAMP:20260420T120033Z
URL:https://business.portsmouthchamber.org/events/details/extraordinary-cinema-the-historic-theater-the-martian-01-07-2016-13421
END:VEVENT

END:VCALENDAR
