BEGIN:VCALENDAR
VERSION:2.0
PRODID:-//ChamberMaster//Event Calendar 2.0//EN
METHOD:PUBLISH
X-PUBLISHED-TTL:P3D
REFRESH-INTERVAL:P3D
CALSCALE:GREGORIAN
BEGIN:VEVENT
DTSTART:20160313T000000Z
DTEND:20160313T020000Z
X-MICROSOFT-CDO-ALLDAYEVENT:FALSE
SUMMARY:Extraordinary Cinema @ The Historic Theater: Youth
DESCRIPTION:Two longtime friends are vacationing in the Swiss Alps. Oscar winning actor Michael Caine plays Fred\, an acclaimed composer and conductor\, who brings along his daughter (Rachel Weisz) and best friend Mick (Harvey Keitel)\, a renowned filmmaker. While Mick scrambles to finish the screenplay for what he imagines will be his last important film\, Fred has no intention of resuming his musical career. The two men reflect on their past\, each finding that some of the most important experiences can come later in life.\n\n\n\nR   2h4m   Italy   Some Subtitles
X-ALT-DESC;FMTTYPE=text/html:<span style="color: rgb(102\, 102\, 102)\; font-family: 'Droid Sans'\, 'Lucida Grande'\, Arial\, sans-serif\; font-size: 16.8px\; line-height: 26.4px\;">Two longtime friends are vacationing in the Swiss Alps. Oscar winning actor Michael Caine plays Fred\, an acclaimed composer and conductor\, who brings along his daughter (Rachel Weisz) and best friend Mick (Harvey Keitel)\, a renowned filmmaker. While Mick scrambles to finish the screenplay for what he imagines will be his last important film\, Fred has no intention of resuming his musical career. The two men reflect on their past\, each finding that some of the most important experiences can come later in life.</span><br />\n<br style="color: rgb(102\, 102\, 102)\; font-family: 'Droid Sans'\, 'Lucida Grande'\, Arial\, sans-serif\; font-size: 16.8px\; line-height: 26.4px\;" />\n<strong style="color: rgb(102\, 102\, 102)\; font-family: 'Droid Sans'\, 'Lucida Grande'\, Arial\, sans-serif\; font-size: 16.8px\; line-height: 26.4px\;">R &bull\; 2h4m &bull\; Italy &bull\; Some Subtitles</strong>
LOCATION:The Music Hall 28 Chestnut Street\, Portsmouth
UID:e.1659.16700
SEQUENCE:3
DTSTAMP:20260420T150404Z
URL:https://business.portsmouthchamber.org/events/details/extraordinary-cinema-the-historic-theater-youth-03-12-2016-16700
END:VEVENT

END:VCALENDAR
