BEGIN:VCALENDAR
VERSION:2.0
PRODID:-//ChamberMaster//Event Calendar 2.0//EN
METHOD:PUBLISH
X-PUBLISHED-TTL:P3D
REFRESH-INTERVAL:P3D
CALSCALE:GREGORIAN
BEGIN:VEVENT
DTSTART:20160312T000000Z
DTEND:20160312T020000Z
X-MICROSOFT-CDO-ALLDAYEVENT:FALSE
SUMMARY:Extraordinary Cinema @ The Music Hall Loft - Hitchcock / Truffaut
DESCRIPTION:In 1962\, Alfred Hitchcock and a 30-year-old Fran ois Truffaut sequestered themselves in a windowless Hollywood office for a weeklong conversation. The result: the seminal bookHitchcock/Truffaut\, published a half century ago\, dissecting every film Hitchcock had made until then\, illuminating his masterful techniques\, making the case for the popular director as an artist\, and influencing generations of filmmakers. Kent Jones brings "the Bible of Cinema" to invigorating life. He interviews filmmakers whose work has been profoundly influenced by Hitchcock: Martin Scorsese\, David Fincher\, Richard Linklater\, Olivier Assayas\, and many others.\n\n\n\nPG13   1h19m   France   Some Subtitles
X-ALT-DESC;FMTTYPE=text/html:<span style="color: rgb(102\, 102\, 102)\; font-family: 'Droid Sans'\, 'Lucida Grande'\, Arial\, sans-serif\; font-size: 16.8px\; line-height: 26.4px\;">In 1962\, Alfred Hitchcock and a 30-year-old Fran&ccedil\;ois Truffaut sequestered themselves in a windowless Hollywood office for a weeklong conversation. The result: the seminal </span><span style="color: rgb(102\, 102\, 102)\; font-family: 'Droid Sans'\, 'Lucida Grande'\, Arial\, sans-serif\; font-size: 16.8px\; line-height: 26.4px\;">book</span><em style="color: rgb(102\, 102\, 102)\; font-family: 'Droid Sans'\, 'Lucida Grande'\, Arial\, sans-serif\; font-size: 16.8px\; line-height: 26.4px\;">Hitchcock</em><em style="color: rgb(102\, 102\, 102)\; font-family: 'Droid Sans'\, 'Lucida Grande'\, Arial\, sans-serif\; font-size: 16.8px\; line-height: 26.4px\;">/Truffaut</em><span style="color: rgb(102\, 102\, 102)\; font-family: 'Droid Sans'\, 'Lucida Grande'\, Arial\, sans-serif\; font-size: 16.8px\; line-height: 26.4px\;">\, published a half century ago\, dissecting every film Hitchcock had made until then\, illuminating his masterful techniques\, making the case for the popular director as an artist\, and influencing generations of filmmakers. Kent Jones brings &ldquo\;the Bible of Cinema&rdquo\; to invigorating life. He interviews filmmakers whose work has been profoundly influenced by Hitchcock: Martin Scorsese\, David Fincher\, Richard Linklater\, Olivier Assayas\, and many others.</span><br />\n<br style="color: rgb(102\, 102\, 102)\; font-family: 'Droid Sans'\, 'Lucida Grande'\, Arial\, sans-serif\; font-size: 16.8px\; line-height: 26.4px\;" />\n<strong style="color: rgb(102\, 102\, 102)\; font-family: 'Droid Sans'\, 'Lucida Grande'\, Arial\, sans-serif\; font-size: 16.8px\; line-height: 26.4px\;">PG13 &bull\; 1h19m &bull\; France &bull\; Some Subtitles</strong>
LOCATION:The Music Hall Loft 131 Congress Street\, Portsmouth
UID:e.1659.16695
SEQUENCE:3
DTSTAMP:20260420T150451Z
URL:https://business.portsmouthchamber.org/events/details/extraordinary-cinema-the-music-hall-loft-hitchcock-truffaut-03-11-2016-16695
END:VEVENT

END:VCALENDAR
