BEGIN:VCALENDAR
VERSION:2.0
PRODID:-//ChamberMaster//Event Calendar 2.0//EN
METHOD:PUBLISH
X-PUBLISHED-TTL:P3D
REFRESH-INTERVAL:P3D
CALSCALE:GREGORIAN
BEGIN:VEVENT
DTSTART:20160128T000000Z
DTEND:20160128T020000Z
X-MICROSOFT-CDO-ALLDAYEVENT:FALSE
SUMMARY:Extraordinary Cinema @ The Music Hall Loft - Ingrid Bergman: In Her Own Words
DESCRIPTION:One of Hollywood's most radiant and beloved European imports\, Ingrid Bergman becomes more of an icon with every passing year. A combination of never-before-seen private footage\, notes\, letters\, diaries and interviews with Bergman's children (Pia Lindstr m\, Isabella and Ingrid Rossellini and son Renato Rossellini) results in this documentary that is both celebratory and revelatory. This is a captivating look behind-the-scenes of the remarkable life of a young Swedish girl who became one of the most beloved and celebrated actresses of American and European cinema.
X-ALT-DESC;FMTTYPE=text/html:<span style="color: rgb(102\, 102\, 102)\; font-family: 'Droid Sans'\, 'Lucida Grande'\, Arial\, sans-serif\; font-size: 16.8px\; line-height: 26.4px\;">One of Hollywood&rsquo\;s most radiant and beloved European imports\, Ingrid Bergman becomes more of an icon with every passing year. A combination of never-before-seen private footage\, notes\, letters\, diaries and interviews with Bergman&rsquo\;s children (Pia Lindstr&ouml\;m\, Isabella and Ingrid Rossellini and son Renato Rossellini) results in this documentary that is both celebratory and revelatory. This is a captivating look behind-the-scenes of the remarkable life of a young Swedish girl who became one of the most beloved and celebrated actresses of American and European cinema.</span>
LOCATION:The Music Hall Loft 131 Congress Street\, Portsmouth
UID:e.1659.13857
SEQUENCE:3
DTSTAMP:20260420T155917Z
URL:https://business.portsmouthchamber.org/events/details/extraordinary-cinema-the-music-hall-loft-ingrid-bergman-in-her-own-words-01-27-2016-13857
END:VEVENT

END:VCALENDAR
