BEGIN:VCALENDAR
VERSION:2.0
PRODID:-//ChamberMaster//Event Calendar 2.0//EN
METHOD:PUBLISH
X-PUBLISHED-TTL:P3D
REFRESH-INTERVAL:P3D
CALSCALE:GREGORIAN
BEGIN:VEVENT
DTSTART:20160326T230000Z
DTEND:20160327T010000Z
X-MICROSOFT-CDO-ALLDAYEVENT:FALSE
SUMMARY:Extraordinary Cinema @ The Music Hall Loft - Janis: Little Girl Blue
DESCRIPTION:One of the most revered and iconic rock and roll singers of all time\, a tragic and misunderstood figure who thrilled millions of listeners and blazed new creative trails before her death in 1970 at age 27. This in-depth examination presents an intimate and insightful portrait of a complicated\, driven\, and often beleaguered artist. Joplin's own words tell much of the film's story through a series of letters she wrote to her parents over the years\, many of them made public here\, for the first time.\n\n\n\nNR   1h46m   US
X-ALT-DESC;FMTTYPE=text/html:<span style="color: rgb(102\, 102\, 102)\; font-family: 'Droid Sans'\, 'Lucida Grande'\, Arial\, sans-serif\; font-size: 16.8px\; line-height: 26.4px\;">One of the most revered and iconic rock and roll singers of all time\, a tragic and misunderstood figure who thrilled millions of listeners and blazed new creative trails before her death in 1970 at age 27. This in-depth examination presents an intimate and insightful portrait of a complicated\, driven\, and often beleaguered artist. Joplin&rsquo\;s own words tell much of the film&rsquo\;s story through a series of letters she wrote to her parents over the years\, many of them made public here\, for the first time.</span><br />\n<br style="color: rgb(102\, 102\, 102)\; font-family: 'Droid Sans'\, 'Lucida Grande'\, Arial\, sans-serif\; font-size: 16.8px\; line-height: 26.4px\;" />\n<strong style="color: rgb(102\, 102\, 102)\; font-family: 'Droid Sans'\, 'Lucida Grande'\, Arial\, sans-serif\; font-size: 16.8px\; line-height: 26.4px\;">NR &bull\; 1h46m &bull\; US</strong>
LOCATION:The Music Hall Loft 131 Congress Street\, Portsmouth
UID:e.1659.16710
SEQUENCE:3
DTSTAMP:20260420T150744Z
URL:https://business.portsmouthchamber.org/events/details/extraordinary-cinema-the-music-hall-loft-janis-little-girl-blue-03-26-2016-16710
END:VEVENT

END:VCALENDAR
