BEGIN:VCALENDAR
VERSION:2.0
PRODID:-//ChamberMaster//Event Calendar 2.0//EN
METHOD:PUBLISH
X-PUBLISHED-TTL:P3D
REFRESH-INTERVAL:P3D
CALSCALE:GREGORIAN
BEGIN:VEVENT
DTSTART:20160307T000000Z
DTEND:20160307T020000Z
X-MICROSOFT-CDO-ALLDAYEVENT:FALSE
SUMMARY:Extraordinary Cinema @ The Music Hall Loft - Peggy Guggenhein: Art Addict
DESCRIPTION:Lisa Immordino Vreeland follows up her acclaimed debut Diana Vreeland: The Eye has to Travel with this new documentary. A colorful character who was not only ahead of her time but helped to define it\, Peggy Guggenheim was an heiress to her family fortune and became a central figure in the modern art movement. She collected not only art\, but artists. Her colorful personal history included such figures as Samuel Beckett\, Max Ernst\, Jackson Pollock\, Alexander Calder\, Marcel Duchamp\, and countless others.\n\n\n\nNR   1h36m   US
X-ALT-DESC;FMTTYPE=text/html:<span style="color: rgb(102\, 102\, 102)\; font-family: 'Droid Sans'\, 'Lucida Grande'\, Arial\, sans-serif\; font-size: 16.8px\; line-height: 26.4px\;">Lisa Immordino Vreeland follows up her acclaimed debut&nbsp\;</span><em style="color: rgb(102\, 102\, 102)\; font-family: 'Droid Sans'\, 'Lucida Grande'\, Arial\, sans-serif\; font-size: 16.8px\; line-height: 26.4px\;">Diana Vreeland: The Eye has to Travel</em><span style="color: rgb(102\, 102\, 102)\; font-family: 'Droid Sans'\, 'Lucida Grande'\, Arial\, sans-serif\; font-size: 16.8px\; line-height: 26.4px\;">&nbsp\;with this new documentary. A colorful character who was not only ahead of her time but helped to define it\, Peggy Guggenheim was an heiress to her family fortune and became a central figure in the modern art movement. She collected not only art\, but artists. Her colorful personal history included such figures as Samuel Beckett\, Max Ernst\, Jackson Pollock\, Alexander Calder\, Marcel Duchamp\, and countless others.</span><br />\n<br style="color: rgb(102\, 102\, 102)\; font-family: 'Droid Sans'\, 'Lucida Grande'\, Arial\, sans-serif\; font-size: 16.8px\; line-height: 26.4px\;" />\n<strong style="color: rgb(102\, 102\, 102)\; font-family: 'Droid Sans'\, 'Lucida Grande'\, Arial\, sans-serif\; font-size: 16.8px\; line-height: 26.4px\;">NR &bull\; 1h36m &bull\; US</strong>
LOCATION:The Music Hall Loft 131 Congress Street\, Portsmouth
UID:e.1659.16691
SEQUENCE:3
DTSTAMP:20260420T150630Z
URL:https://business.portsmouthchamber.org/events/details/extraordinary-cinema-the-music-hall-loft-peggy-guggenhein-art-addict-03-06-2016-16691
END:VEVENT

END:VCALENDAR
