BEGIN:VCALENDAR
VERSION:2.0
PRODID:-//ChamberMaster//Event Calendar 2.0//EN
METHOD:PUBLISH
X-PUBLISHED-TTL:P3D
REFRESH-INTERVAL:P3D
CALSCALE:GREGORIAN
BEGIN:VEVENT
DTSTART:20160318T230000Z
DTEND:20160319T010000Z
X-MICROSOFT-CDO-ALLDAYEVENT:FALSE
SUMMARY:Extraordinary Cinema @ The Music Hall Loft - The Messenger
DESCRIPTION:In this documentary filmmaker\, Su Rynard examines the various hazards songbirds face around the world\, which have led to a drastic reduction in their population. Biologists and industry experts discuss the critical role the birds play in the global ecosystem.\n\n\n\nNR   1h29m   Canada
X-ALT-DESC;FMTTYPE=text/html:<span style="color: rgb(102\, 102\, 102)\; font-family: 'Droid Sans'\, 'Lucida Grande'\, Arial\, sans-serif\; font-size: 16.8px\; line-height: 26.4px\;">In this documentary filmmaker\, Su Rynard examines the various hazards songbirds face around the world\, which have led to a drastic reduction in their population. Biologists and industry experts discuss the critical role the birds play in the global ecosystem.</span><br />\n<br style="color: rgb(102\, 102\, 102)\; font-family: 'Droid Sans'\, 'Lucida Grande'\, Arial\, sans-serif\; font-size: 16.8px\; line-height: 26.4px\;" />\n<strong style="color: rgb(102\, 102\, 102)\; font-family: 'Droid Sans'\, 'Lucida Grande'\, Arial\, sans-serif\; font-size: 16.8px\; line-height: 26.4px\;">NR &bull\; 1h29m &bull\; Canada</strong>
LOCATION:The Music Hall Loft 131 Congress Street\, Portsmouth
UID:e.1659.16705
SEQUENCE:3
DTSTAMP:20260420T150211Z
URL:https://business.portsmouthchamber.org/events/details/extraordinary-cinema-the-music-hall-loft-the-messenger-03-18-2016-16705
END:VEVENT

END:VCALENDAR
