BEGIN:VCALENDAR
VERSION:2.0
PRODID:-//ChamberMaster//Event Calendar 2.0//EN
METHOD:PUBLISH
X-PUBLISHED-TTL:P3D
REFRESH-INTERVAL:P3D
CALSCALE:GREGORIAN
BEGIN:VEVENT
DTSTART:20251113T223000Z
DTEND:20251114T003000Z
X-MICROSOFT-CDO-ALLDAYEVENT:FALSE
SUMMARY:Facilitation Lab Portsmouth with Devon Skerrit & Voltage Control
DESCRIPTION:Step into a space built for experimentation\, creativity\, and growth. Facilitation Lab Portsmouth is your chance to put facilitation theory into action   tackling real challenges through guided practice and peer feedback. Whether you're designing a workshop\, managing group dynamics\, or testing new methods\, this is where you can safely try\, learn\, and adapt. Each session follows the Practice Playground format   an interactive\, role-based experience that turns facilitation into a hands-on skill you can actually feel yourself improving. Come curious\, bring a challenge\, and leave with sharper skills and new ways to create connection and clarity in any room.
X-ALT-DESC;FMTTYPE=text/html:Step into a space built for experimentation\, creativity\, and growth. Facilitation Lab Portsmouth is your chance to put facilitation theory into action &mdash\; tackling real challenges through guided practice and peer feedback. Whether you&rsquo\;re designing a workshop\, managing group dynamics\, or testing new methods\, this is where you can safely try\, learn\, and adapt. Each session follows the Practice Playground format &mdash\; an interactive\, role-based experience that turns facilitation into a hands-on skill you can actually feel yourself improving. Come curious\, bring a challenge\, and leave with sharper skills and new ways to create connection and clarity in any room.
LOCATION:Reedmor Books & Brews 67 State Street Portsmouth\, NH 03801
UID:e.1659.86888
SEQUENCE:3
DTSTAMP:20260423T150547Z
URL:https://business.portsmouthchamber.org/events/details/facilitation-lab-portsmouth-with-devon-skerrit-voltage-control-86888
END:VEVENT

END:VCALENDAR
