BEGIN:VCALENDAR
VERSION:2.0
PRODID:-//ChamberMaster//Event Calendar 2.0//EN
METHOD:PUBLISH
X-PUBLISHED-TTL:P3D
REFRESH-INTERVAL:P3D
CALSCALE:GREGORIAN
BEGIN:VEVENT
DTSTART;VALUE=DATE:20140920
DTEND;VALUE=DATE:20140922
TRANSP:TRANSPARENT
X-MICROSOFT-CDO-ALLDAYEVENT:TRUE
SUMMARY:Fairy House Tours
DESCRIPTION:The world's largest fairy house tour takes place in the South End Neighborhood of Portsmouth. Enjoy more than 150 built fairy houses with the guided walk through various Portsmouth gardens and historic homes. It also includes entry to Strawbery Banke\, Prescott Park\, the Wentworth Gardner\, and Tobias Lear Houses. 11:00am-3:00pm\, September 20 & 21.
X-ALT-DESC;FMTTYPE=text/html:<span style="font-family:arial\,sans-serif\;">The world&rsquo\;s largest fairy house tour takes place in the South End Neighborhood of Portsmouth. Enjoy more than 150 built fairy houses with the guided walk through various Portsmouth gardens and historic homes. It also includes</span><span style="font-family:arial\,sans-serif\;"> entry to Strawbery Banke\, Prescott Park\, the Wentworth Gardner\, and Tobias Lear Houses. 11:00am-3:00pm\, September 20 &amp\; 21.</span><br />\n&nbsp\;
LOCATION:Strawbery Banke\, 14 Hancock St\, Portsmouth\, 03802
UID:e.1659.2253
SEQUENCE:3
DTSTAMP:20260419T161306Z
URL:https://business.portsmouthchamber.org/events/details/fairy-house-tours-09-20-2014-2253
END:VEVENT

END:VCALENDAR
