BEGIN:VCALENDAR
VERSION:2.0
PRODID:-//ChamberMaster//Event Calendar 2.0//EN
METHOD:PUBLISH
X-PUBLISHED-TTL:P3D
REFRESH-INTERVAL:P3D
CALSCALE:GREGORIAN
BEGIN:VEVENT
DTSTART:20161009T170000Z
DTEND:20161009T203000Z
X-MICROSOFT-CDO-ALLDAYEVENT:FALSE
SUMMARY:With the Stella Di Mare take a Fall Foliage River Cruise
DESCRIPTION:Cruise up the Piscataqua past the bridges\, through Portsmouth Harbor and into Great Bay.  Relax and take in the brillant colors of the changing fall foliage.   Seafood Chowder\,a selection of sandwiches\, dessert and a beverage are included.  Cash bar is also available.
X-ALT-DESC;FMTTYPE=text/html:Cruise up the Piscataqua past the bridges\, through Portsmouth Harbor and into Great Bay. &nbsp\;Relax and take in the brillant colors of the changing fall foliage. &nbsp\; Seafood Chowder\,a selection of sandwiches\, dessert and a beverage are included. &nbsp\;Cash bar is also available. &nbsp\;<br />\n<br />\n&nbsp\;
LOCATION:Wentworth by-the-sea Marina A Dock
UID:e.1659.24492
SEQUENCE:3
DTSTAMP:20260421T224920Z
URL:https://business.portsmouthchamber.org/events/details/fall-foliage-river-cruise-10-09-2016-24492
END:VEVENT

END:VCALENDAR
