BEGIN:VCALENDAR
VERSION:2.0
PRODID:-//ChamberMaster//Event Calendar 2.0//EN
METHOD:PUBLISH
X-PUBLISHED-TTL:P3D
REFRESH-INTERVAL:P3D
CALSCALE:GREGORIAN
BEGIN:VEVENT
DTSTART:20161113T170000Z
DTEND:20161113T220000Z
X-MICROSOFT-CDO-ALLDAYEVENT:FALSE
SUMMARY:Families First Benefit at Ten Thousand Villages
DESCRIPTION:Ten Thousand Villages\, a fair trade retailer of artisan-crafted home decor\, personal accessories and gift items from across the globe\, will donate 15% of the price of items sold to Families First Health & Support Center on Sunday\, November 13th from 12 noon - 5:00 pm. Help support local AND international communities by shopping on this day. It's a perfect time to shop for your holiday gifts.
X-ALT-DESC;FMTTYPE=text/html:Ten Thousand Villages\, a fair trade retailer of artisan-crafted home decor\, personal accessories and gift items from across the globe\, will donate 15% of the price of items sold to Families First Health &amp\; Support Center on Sunday\, November 13th from 12 noon - 5:00 pm. Help support local AND international communities by shopping on this day. It&#39\;s a perfect time to shop for your holiday gifts.
LOCATION:Ten Thousand Villages 87 Congress Street Downtown Portsmouth\, NH
UID:e.1659.27629
SEQUENCE:3
DTSTAMP:20260421T225521Z
URL:https://business.portsmouthchamber.org/events/details/families-first-benefit-at-ten-thousand-villages-27629
END:VEVENT

END:VCALENDAR
