BEGIN:VCALENDAR
VERSION:2.0
PRODID:-//ChamberMaster//Event Calendar 2.0//EN
METHOD:PUBLISH
X-PUBLISHED-TTL:P3D
REFRESH-INTERVAL:P3D
CALSCALE:GREGORIAN
BEGIN:VEVENT
DTSTART:20161002T160000Z
DTEND:20161002T210000Z
X-MICROSOFT-CDO-ALLDAYEVENT:FALSE
SUMMARY:Families First "Free Ice Cream Day" at Lago's Ice Cream
DESCRIPTION:It's that time of year again when Lago's Ice Cream holds their "Free Ice Cream Day" with donations benefiting Families First's pediatric health care program. Grab your ice cream on Sunday\, October 2nd. They will be serving starting at 12 noon until the ice cream is gone.
X-ALT-DESC;FMTTYPE=text/html:It&#39\;s that time of year again when Lago&#39\;s Ice Cream holds their &quot\;Free Ice Cream Day&quot\; with donations benefiting Families First&#39\;s pediatric health care program. Grab your ice cream on Sunday\, October 2nd. They will be serving starting at 12 noon until the ice cream is gone.
LOCATION:Lago's Ice Cream 71 Lafayette Rd\, Rye\, NH 03870
UID:e.1659.25862
SEQUENCE:3
DTSTAMP:20260421T225513Z
URL:https://business.portsmouthchamber.org/events/details/families-first-free-ice-cream-day-at-lago-s-ice-cream-25862
END:VEVENT

END:VCALENDAR
