BEGIN:VCALENDAR
VERSION:2.0
PRODID:-//ChamberMaster//Event Calendar 2.0//EN
METHOD:PUBLISH
X-PUBLISHED-TTL:P3D
REFRESH-INTERVAL:P3D
CALSCALE:GREGORIAN
BEGIN:VEVENT
DTSTART:20260503T140000Z
DTEND:20260503T160000Z
X-MICROSOFT-CDO-ALLDAYEVENT:FALSE
SUMMARY:Farm Day with Sturgeon Creek Farm
DESCRIPTION:Join us at the museum to meet some of the animals from Sturgeon Creek Farm in Eliot\, Maine. Visitors can view and interact with animals (lamb and chickens) on the Play Patio starting at 10 am during our morning play session on Sunday\, May 3. This program is included with museum admission and free for members. STEAM programs at the Museum are sponsored\, in part\, by Novocure\, Albany Engineered Composites\, Granite State Development Corp. and Service Credit Union. https://childrens-museum.org/programs/special-guests/
X-ALT-DESC;FMTTYPE=text/html:<p><span style="background-color:transparent\; color:rgb(0\, 0\, 0)\; font-family:arial\,sans-serif\; font-size:12pt">Join us at the museum to meet some of the animals from Sturgeon Creek Farm in Eliot\, Maine. Visitors can view and interact with animals (lamb and chickens) on the Play Patio starting at 10 am during our morning play session on Sunday\, May 3. This program is included with museum admission and free for members. STEAM programs at the Museum are sponsored\, in part\, by Novocure\, Albany Engineered Composites\, Granite State Development Corp. and Service Credit Union. </span><a href="https://childrens-museum.org/programs/special-guests/" style="text-decoration-line: none\;"><span style="background-color:transparent\; color:rgb(0\, 0\, 0)\; font-family:arial\,sans-serif\; font-size:12pt">https://childrens-museum.org/programs/special-guests/</span></a><span style="background-color:transparent\; color:rgb(0\, 0\, 0)\; font-family:arial\,sans-serif\; font-size:12pt">&nbsp\;</span></p>\n\n<div>&nbsp\;</div>\n
LOCATION:The Children's Museum of New Hampshire 6 Washington Street Dover\, NH 03820
UID:e.1659.91467
SEQUENCE:3
DTSTAMP:20260423T052128Z
URL:https://business.portsmouthchamber.org/events/details/farm-day-with-sturgeon-creek-farm-91467
END:VEVENT

END:VCALENDAR
