BEGIN:VCALENDAR
VERSION:2.0
PRODID:-//ChamberMaster//Event Calendar 2.0//EN
METHOD:PUBLISH
X-PUBLISHED-TTL:P3D
REFRESH-INTERVAL:P3D
CALSCALE:GREGORIAN
BEGIN:VEVENT
DTSTART:20130905T210000Z
DTEND:20130906T010000Z
X-MICROSOFT-CDO-ALLDAYEVENT:FALSE
SUMMARY:Fashion's Night Out
DESCRIPTION:3rd Annual Fashion's Night Out Portsmouth
X-ALT-DESC;FMTTYPE=text/html:<font class="Apple-style-span" face="arial" size="3"><b>3rd Annual Fashion&#39\;s Night Out Portsmouth</b></font>
LOCATION:
UID:e.1659.573
SEQUENCE:3
DTSTAMP:20260420T090702Z
URL:https://business.portsmouthchamber.org/events/details/fashion-s-night-out-09-05-2013-573
END:VEVENT

END:VCALENDAR
