BEGIN:VCALENDAR
VERSION:2.0
PRODID:-//ChamberMaster//Event Calendar 2.0//EN
METHOD:PUBLISH
X-PUBLISHED-TTL:P3D
REFRESH-INTERVAL:P3D
CALSCALE:GREGORIAN
BEGIN:VEVENT
DTSTART:20140904T210000Z
DTEND:20140905T020000Z
X-MICROSOFT-CDO-ALLDAYEVENT:FALSE
SUMMARY:Fashion's Night Out Portsmouth
DESCRIPTION:A world wide celebration of fashion\, hosted in Portsmouth by the Retail Committee of the Greater Portsmouth Chamber of Commerce.  The evening is a celebration of individual fashion and style.  The downtown is the place to see and be seen on the Portsmouth fashion scene. \n\n\n\n   Visit shops from 5:00 - 8:00 p.m. for trunk shows\, special demonstrations\, snacks and libations.  Stop by Popovers on Market Square to meet Miss Portsmouth Area\, and have your photo taken in our Tap Snap photo booth and uploaded to Facebook.  Keep an eye out for the famous Flower Girls\, dressed in living flowers and flora\, designed by Marcia Hansen Design with materials supplied by The Flower Kiosk.  Watch for paparazzi throughout the downtown\, shooting pictures of YOUR fashion and style.  Even Jackie Kennedy may appear\, showing off the sophisticated style of her time.  Raffle tickets for shopping prizes and two round trip tickets to New York City on C&J Bus Lines will be handed out through the evening.\n\n\n\n   Join us from 8:00 - 10:00 at the Hilton Garden Inn for a Nightcap Party and Fashion Runway Show.  Snacks\, cash bar\, music by DJ Rhyz\, and a slide show of pictures taken throughout the evening by the paparazzi will keep you entertained.  Raffle prizes will be drawn after the Fashion Show.  Must be present to win.\n\n\n\n   Kick off your fashion mojo on Wednesday night\, September 3rd\, by attending the first showing by The Music Hall of the NEW Yves Saint Laurent biopic.  Tickets at www.themusichall.org.\n\n\n\n  SAVE THE DATE and plan to come to downtown Portsmouth for the evening.  Bring your besties for a FUN Fashion's Night Out!\n\n\n\nLike us on Facebook for all the updates!
X-ALT-DESC;FMTTYPE=text/html:A world wide celebration of fashion\, hosted in Portsmouth by the Retail Committee of the Greater Portsmouth Chamber of Commerce.&nbsp\; The evening is a celebration of individual fashion and style.&nbsp\; The downtown is the place to see and be seen on the Portsmouth fashion scene.&nbsp\;<br />\n<br />\n&nbsp\;&nbsp\; Visit shops from 5:00 - 8:00 p.m. for trunk shows\, special demonstrations\, snacks and libations.&nbsp\; Stop by Popovers on Market Square to meet Miss Portsmouth Area\, and have your photo taken in our Tap Snap photo booth and uploaded to Facebook.&nbsp\; Keep an eye out for the famous Flower Girls\, dressed in living flowers and flora\, designed by Marcia Hansen Design with materials supplied by The Flower Kiosk.&nbsp\; Watch for paparazzi throughout the downtown\, shooting pictures of YOUR fashion and style.&nbsp\; Even Jackie Kennedy may appear\, showing off the sophisticated style of her time.&nbsp\; Raffle tickets for shopping prizes and two round trip tickets to New York City on C&amp\;J Bus Lines will be handed out through the evening.<br />\n<br />\n&nbsp\;&nbsp\; Join us from 8:00 - 10:00 at the Hilton Garden Inn for a Nightcap Party and Fashion Runway Show.&nbsp\; Snacks\, cash bar\, music by DJ Rhyz\, and a slide show of pictures taken throughout the evening by the paparazzi will keep you entertained.&nbsp\; Raffle prizes will be drawn after the Fashion Show.&nbsp\; Must be present to win.<br />\n<br />\n&nbsp\;&nbsp\; Kick off your fashion mojo on Wednesday night\, September 3rd\, by attending the first showing by The Music Hall of the NEW Yves Saint Laurent biopic.&nbsp\; Tickets at www.themusichall.org.<br />\n<br />\n&nbsp\; SAVE THE DATE and plan to come to downtown Portsmouth for the evening.&nbsp\; Bring your besties for a FUN Fashion&#39\;s Night Out!<br />\n<br />\nLike us on <a href="http://www.facebook.com/shopportsmouth/events">Facebook</a> for all the updates!
LOCATION:5:00 - 8:00 p.m. Participating Shops: Alie Jewelers * Celtic Crossing * Club Boutique * City Shoes * Concetta's Closet * The Flower Kiosk * Hazel Boutique * Jay Schadler Studio * Kilwins * Puttin' on the Glitz * Tug Boat Alley Visit Popovers on the Square - FNO Portsmouth Headquarters 8:00 - 10:00 p.m. Hilton Garden Inn Nightcap Party\, Fashion Runway Show\, Raffle Prize Drawing
UID:e.1659.2944
SEQUENCE:3
DTSTAMP:20260419T162713Z
URL:https://business.portsmouthchamber.org/events/details/fashion-s-night-out-portsmouth-09-04-2014-2944
END:VEVENT

END:VCALENDAR
