BEGIN:VCALENDAR
VERSION:2.0
PRODID:-//ChamberMaster//Event Calendar 2.0//EN
METHOD:PUBLISH
X-PUBLISHED-TTL:P3D
REFRESH-INTERVAL:P3D
CALSCALE:GREGORIAN
BEGIN:VEVENT
DTSTART:20160315T230000Z
DTEND:20160316T010000Z
X-MICROSOFT-CDO-ALLDAYEVENT:FALSE
SUMMARY:Film Club @ The Music Hall Loft - To Be Or Not To Be (1942)
DESCRIPTION:Billy Wilder kept a sign over his desk: "What would Lubitsch do?" In this brave satire\, Ernst Lubitsch\, Hollywood's most urbane and elegant director\, makes comedy out of the Nazi invasion of Poland. How? Write the script for laugh master Jack Benny\, add the brilliant and beautiful Carole Lombard\, and show how actors\, regardless of how dangerous a situation gets\, can always be relied upon to be vain\, jealous\, randy\, and self-involved. #49 on the AFI funniest films list. Part of The Music Hall Film Club.\n\n\n\nPG   1h 30m   US\n\nPLUS: Maybe the best propaganda cartoon ever made - starring Donald Duck!
X-ALT-DESC;FMTTYPE=text/html:<p style="margin: 0px 0px 15px\; padding: 0px\; color: rgb(102\, 102\, 102)\; font-family: 'Droid Sans'\, 'Lucida Grande'\, Arial\, sans-serif\; font-size: 16.8px\; line-height: 26.4px\;">Billy Wilder kept a sign over his desk: &ldquo\;What would Lubitsch do?&rdquo\; In this brave satire\, Ernst Lubitsch\, Hollywood&rsquo\;s most urbane and elegant director\, makes comedy out of the Nazi invasion of Poland. How? Write the script for laugh master Jack Benny\, add the brilliant and beautiful Carole Lombard\, and show how actors\, regardless of how dangerous a situation gets\, can always be relied upon to be vain\, jealous\, randy\, and self-involved. #49 on the AFI funniest films list. Part of&nbsp\;<a href="http://www.themusichall.org/community/explore_and_learn/film_club" style="color: rgb(170\, 90\, 0)\;">The Music Hall Film Club</a>.<br />\n<br />\n<strong>PG &bull\; 1h 30m &bull\; US</strong></p>\n\n<p style="margin: 0px 0px 15px\; padding: 0px\; color: rgb(102\, 102\, 102)\; font-family: 'Droid Sans'\, 'Lucida Grande'\, Arial\, sans-serif\; font-size: 16.8px\; line-height: 26.4px\;">PLUS: Maybe the best propaganda cartoon ever made - starring Donald Duck!</p>\n
LOCATION:The Music Hall Loft 131 Congress Street\, Portsmouth
UID:e.1659.16702
SEQUENCE:3
DTSTAMP:20260420T150841Z
URL:https://business.portsmouthchamber.org/events/details/film-club-the-music-hall-loft-to-be-or-not-to-be-1942-03-15-2016-16702
END:VEVENT

END:VCALENDAR
