BEGIN:VCALENDAR
VERSION:2.0
PRODID:-//ChamberMaster//Event Calendar 2.0//EN
METHOD:PUBLISH
X-PUBLISHED-TTL:P3D
REFRESH-INTERVAL:P3D
CALSCALE:GREGORIAN
BEGIN:VEVENT
DTSTART:20140820T153000Z
DTEND:20140820T170000Z
X-MICROSOFT-CDO-ALLDAYEVENT:FALSE
SUMMARY:Financial Planning for your Special Needs Child: Planning to Meet a Lifetime of Needs
DESCRIPTION:Join us on August 20th from 11:30am until 1:00pm at the Portsmouth Chamber of Commerce for our free workshop "Financial Planning for your Special Needs Child: Planning to Meet a Lifetime of Needs."\n\nAs a parent or caregiver of a child with special needs\, everyday expenses may be higher for you and you'll want to plan accordingly. You may be fortunate to have family or friends who help you care for your child\, but you also need to know what it could cost if you don't have those people to rely on.\n\nThis workshop will cover general information on tax planning\, financial assistance\, government assistance\, education expenses and more.
X-ALT-DESC;FMTTYPE=text/html:<p style="margin: 0.5em 0px\; padding: 0px\; direction: ltr\; font-family: Verdana\, Arial\, sans-serif\; line-height: 21px\; color: rgb(85\, 85\, 85)\; font-size: 14px\;">Join us on August 20th from 11:30am until 1:00pm at the Portsmouth Chamber of Commerce for our free workshop &quot\;Financial Planning for your Special Needs Child: Planning to Meet a Lifetime of Needs.&quot\;</p>\n\n<p style="margin: 0.5em 0px\; padding: 0px\; direction: ltr\; font-family: Verdana\, Arial\, sans-serif\; line-height: 21px\; color: rgb(85\, 85\, 85)\; font-size: 14px\;">As a parent or caregiver of a child with special needs\, everyday expenses may be higher for you and you&rsquo\;ll want to plan accordingly. You may be fortunate to have family or friends who help you care for your child\, but you also need to know what it could cost if you don&rsquo\;t have those people to rely on.</p>\n\n<p style="margin: 0.5em 0px 0px\; padding: 0px\; direction: ltr\; font-family: Verdana\, Arial\, sans-serif\; line-height: 21px\; color: rgb(85\, 85\, 85)\; font-size: 14px\;">This workshop will cover general information on tax planning\, financial assistance\, government assistance\, education expenses and more.</p>\n
LOCATION:Portsmouth Chamber of Commerce 500 Market St Portsmouth\, NH 03801
UID:e.1659.2941
SEQUENCE:3
DTSTAMP:20260419T175416Z
URL:https://business.portsmouthchamber.org/events/details/financial-planning-for-your-special-needs-child-planning-to-meet-a-lifetime-of-needs-08-20-2014-2941
END:VEVENT

END:VCALENDAR
