BEGIN:VCALENDAR
VERSION:2.0
PRODID:-//ChamberMaster//Event Calendar 2.0//EN
METHOD:PUBLISH
X-PUBLISHED-TTL:P3D
REFRESH-INTERVAL:P3D
CALSCALE:GREGORIAN
BEGIN:VEVENT
DTSTART;VALUE=DATE:20140213
DTEND;VALUE=DATE:20140218
TRANSP:TRANSPARENT
X-MICROSOFT-CDO-ALLDAYEVENT:TRUE
SUMMARY:Fire & Ice Festival
DESCRIPTION:Visit: www.portsmouthchamber.org/FireandIce.cfm
X-ALT-DESC;FMTTYPE=text/html:Visit:&nbsp\;<font face="Arial\, sans-serif" size="2">www.portsmouthchamber.org/FireandIce.cfm</font><br />\n&nbsp\;
LOCATION:
UID:e.1659.1188
SEQUENCE:3
DTSTAMP:20260420T014846Z
URL:https://business.portsmouthchamber.org/events/details/fire-ice-festival-02-13-2014-1188
END:VEVENT

END:VCALENDAR
