BEGIN:VCALENDAR
VERSION:2.0
PRODID:-//ChamberMaster//Event Calendar 2.0//EN
METHOD:PUBLISH
X-PUBLISHED-TTL:P3D
REFRESH-INTERVAL:P3D
CALSCALE:GREGORIAN
BEGIN:VEVENT
DTSTART:20140206T220000Z
DTEND:20140207T000000Z
X-MICROSOFT-CDO-ALLDAYEVENT:FALSE
SUMMARY:Fire & Ice Launch Party at the Port Inn
DESCRIPTION:Celebrate the start of the Fire & Ice Festival and check out the amazing and newly renovated lobby at the Port Inn! These guys know how to do it!
X-ALT-DESC;FMTTYPE=text/html:Celebrate the start of the Fire &amp\; Ice Festival and check out the amazing and newly renovated lobby at the Port Inn! These guys know how to do it!
LOCATION:The Port Inn 505 US 1 Bypass Portsmouth\, NH 03801 603.436.4378
UID:e.1659.1254
SEQUENCE:3
DTSTAMP:20260420T015232Z
URL:https://business.portsmouthchamber.org/events/details/fire-ice-launch-party-at-the-port-inn-02-06-2014-1254
END:VEVENT

END:VCALENDAR
