BEGIN:VCALENDAR
VERSION:2.0
PRODID:-//ChamberMaster//Event Calendar 2.0//EN
METHOD:PUBLISH
X-PUBLISHED-TTL:P3D
REFRESH-INTERVAL:P3D
CALSCALE:GREGORIAN
BEGIN:VEVENT
DTSTART:20131231T210000Z
DTEND:20140101T053000Z
X-MICROSOFT-CDO-ALLDAYEVENT:FALSE
SUMMARY:First Night Portsmouth
DESCRIPTION:First Night revives the ancient traditions of marking the passage of time in a present day context. It was created by a group of civic-minded artists in Boston as a meaningful alternative to traditional New Year's Eve revelry. Offered to the city as a finale to its Bicentennial events in 1976\, First Night Boston also began a new tradition\, bringing neighboring communities together through a joint celebration.  Portsmouth became a First Night  community in 1986 - we are one of two remaining towns in New Hampshire that celebrates First Night  with music\, dance\, fireworks and ice sculpture. By purchasing the First Night  Button\, you support Pro Portsmouth's efforts to keep this tradition alive and thriving on the Seacoast!
X-ALT-DESC;FMTTYPE=text/html:First Night revives the ancient traditions of marking the passage of time in a present day context. It was created by a group of civic-minded artists in Boston as a meaningful alternative to traditional New Year&#39\;s Eve revelry. Offered to the city as a finale to its Bicentennial events in 1976\, First Night Boston also began a new tradition\, bringing neighboring communities together through a joint celebration.&nbsp\; Portsmouth became a First Night&reg\; community in 1986 - we are one of two remaining towns in New Hampshire that celebrates First Night&reg\; with music\, dance\, fireworks and ice sculpture. By purchasing the First Night&reg\; Button\, you support Pro Portsmouth&#39\;s efforts to keep this tradition alive and thriving on the Seacoast!
LOCATION:Downtown Portsmouth
UID:e.1659.806
SEQUENCE:3
DTSTAMP:20260420T031624Z
URL:https://business.portsmouthchamber.org/events/details/first-night-portsmouth-12-31-2013-806
END:VEVENT

END:VCALENDAR
