BEGIN:VCALENDAR
VERSION:2.0
PRODID:-//ChamberMaster//Event Calendar 2.0//EN
METHOD:PUBLISH
X-PUBLISHED-TTL:P3D
REFRESH-INTERVAL:P3D
CALSCALE:GREGORIAN
BEGIN:VEVENT
DTSTART:20140920T123000Z
DTEND:20140920T170000Z
X-MICROSOFT-CDO-ALLDAYEVENT:FALSE
SUMMARY:Five Lighthouse Cruise
DESCRIPTION:Join Friends of Portsmouth Harbor Lighthouses aboard the M/V Granite State for the most extensive lighthouse cruise in this area! The annual "Five Lighthouse Cruise" cruise leaves Rye Harbor State Marina at 8:30 a.m. and will return at approximately 1:00 p.m. The cruise will travel to White Island Light\, Boon Island Light\, Cape Neddick ?Nubble? Light\, Whaleback Light\, and Portsmouth Harbor Light. You will also enjoy great views of the Isles of Shoals\, southern coastal Maine\, Portsmouth\, and the Piscataqua River. The cruise will be narrated by lighthouse historian/author Jeremy D?Entremont and there will be a raffle with lots of great prizes. There is a snack bar on board the vessel.
X-ALT-DESC;FMTTYPE=text/html:Join Friends of Portsmouth Harbor Lighthouses aboard the M/V Granite State for the most extensive lighthouse cruise in this area! The annual &quot\;Five Lighthouse Cruise&quot\; cruise leaves Rye Harbor State Marina at 8:30 a.m. and will return at approximately 1:00 p.m. The cruise&nbsp\;will travel to White Island Light\, Boon Island Light\, Cape Neddick ?Nubble? Light\, Whaleback Light\, and Portsmouth Harbor Light. You will also enjoy great views of the Isles of Shoals\, southern coastal Maine\, Portsmouth\, and the Piscataqua River. The cruise will be narrated by lighthouse historian/author Jeremy D?Entremont and there will be a raffle with lots of great prizes. There is a snack bar on board the vessel.
LOCATION:Rye Harbor State Marina\, Route 1A\, Rye\, NH
UID:e.1659.1622
SEQUENCE:3
DTSTAMP:20260419T160800Z
URL:https://business.portsmouthchamber.org/events/details/five-lighthouse-cruise-09-20-2014-1622
END:VEVENT

END:VCALENDAR
