BEGIN:VCALENDAR
VERSION:2.0
PRODID:-//ChamberMaster//Event Calendar 2.0//EN
METHOD:PUBLISH
X-PUBLISHED-TTL:P3D
REFRESH-INTERVAL:P3D
CALSCALE:GREGORIAN
BEGIN:VEVENT
DTSTART:20161025T200000Z
DTEND:20161026T000000Z
X-MICROSOFT-CDO-ALLDAYEVENT:FALSE
SUMMARY:Flatbread Community Night
DESCRIPTION:Community night at Flatbread Pizza benefit. Portsmouth Halloween Parade crew will provide family friendly Halloween activities.
X-ALT-DESC;FMTTYPE=text/html:Community night at Flatbread Pizza benefit. Portsmouth Halloween Parade crew will provide family friendly Halloween activities.
LOCATION:Flatbread Pizza 138 Congress St.\, Portsmouth
UID:e.1659.27616
SEQUENCE:3
DTSTAMP:20260421T224815Z
URL:https://business.portsmouthchamber.org/events/details/flatbread-community-night-27616
END:VEVENT

END:VCALENDAR
