BEGIN:VCALENDAR
VERSION:2.0
PRODID:-//ChamberMaster//Event Calendar 2.0//EN
METHOD:PUBLISH
X-PUBLISHED-TTL:P3D
REFRESH-INTERVAL:P3D
CALSCALE:GREGORIAN
BEGIN:VEVENT
DTSTART:20251209T210000Z
DTEND:20251210T010000Z
X-MICROSOFT-CDO-ALLDAYEVENT:FALSE
SUMMARY:Flatbread Company's Benefit Bake
DESCRIPTION:This week's benefit is Piscataqua Youth Sailing Association.\n\n\n\nPart of our mission at Flatbread Company is to support local organizations that have an impact on our community. The primary way that we accomplish this is through our  community benefit nights that are held on Tuesdays when we bake up Pizza With Purpose at each of our hearths.
X-ALT-DESC;FMTTYPE=text/html:This week&#39\;s benefit is <strong>Piscataqua Youth Sailing Association.</strong><br />\n<br />\nPart of our mission at <strong>Flatbread Company </strong>is to support local organizations that have an impact on our community. The primary way that we accomplish this is through our&nbsp\; community benefit nights that are held on Tuesdays when we bake up Pizza With Purpose at each of our hearths.
LOCATION:Flatbread Company 138 Congress Street\, Portsmouth\, NH
UID:e.1659.87047
SEQUENCE:3
DTSTAMP:20260423T183346Z
URL:https://business.portsmouthchamber.org/events/details/flatbread-company-s-benefit-bake-87047
END:VEVENT

END:VCALENDAR
