BEGIN:VCALENDAR
VERSION:2.0
PRODID:-//ChamberMaster//Event Calendar 2.0//EN
METHOD:PUBLISH
X-PUBLISHED-TTL:P3D
REFRESH-INTERVAL:P3D
CALSCALE:GREGORIAN
BEGIN:VEVENT
DTSTART;VALUE=DATE:20140906
DTEND;VALUE=DATE:20140907
TRANSP:TRANSPARENT
X-MICROSOFT-CDO-ALLDAYEVENT:TRUE
SUMMARY:Fox Point Sunset 5 Miler
DESCRIPTION:Fox Point Sunset 5 Mile Road Race is held annually the Saturday after Labor Day. It is one of eight races in the Seacoast Road Race Series.
X-ALT-DESC;FMTTYPE=text/html:<span style="color: rgb(84\, 84\, 84)\; font-family: arial\, sans-serif\; font-size: small\; line-height: 18.200000762939453px\; background-color: rgb(255\, 255\, 255)\;">Fox Point Sunset 5 Mile&nbsp\;Road Race is held annually the Saturday after Labor Day. It is one of eight races in the Seacoast Road Race Series.</span>
LOCATION:
UID:e.1659.2139
SEQUENCE:3
DTSTAMP:20260419T160526Z
URL:https://business.portsmouthchamber.org/events/details/fox-point-sunset-5-miler-09-06-2014-2139
END:VEVENT

END:VCALENDAR
