BEGIN:VCALENDAR
VERSION:2.0
PRODID:-//ChamberMaster//Event Calendar 2.0//EN
METHOD:PUBLISH
X-PUBLISHED-TTL:P3D
REFRESH-INTERVAL:P3D
CALSCALE:GREGORIAN
BEGIN:VEVENT
DTSTART:20140111T140000Z
DTEND:20140111T144500Z
X-MICROSOFT-CDO-ALLDAYEVENT:FALSE
SUMMARY:Free Core and Butt Exercise Class
DESCRIPTION:Starting January 4th Join us for our free core and butt exercise class every Saturday morning at 9:00am with our wonderful exercise specialist Cristyn Peters. She knows all the right moves to get you those flat abs and sexy butt! She will also be giving free exercise and nutritional tips during her classes. This is not to be missed!! The classes are absolutely free of charge\, and open to the public so bring your friends and family. We will have exercise matts here for you\, but quantity will be limited so if you have one please bring it.
X-ALT-DESC;FMTTYPE=text/html:Starting January 4th Join us for our free core and butt exercise class every Saturday morning at 9:00am with our wonderful exercise specialist Cristyn Peters. She knows all the right moves to get you those flat abs and sexy butt! She will also be giving free exercise and nutritional tips during her classes. This is not to be missed!! The classes are absolutely free of charge\, and open to the public so bring your friends and family. We will have exercise matts here for you\, but quantity will be limited so if you have one please bring it. 
LOCATION:SEACOAST Spine & Sports Injuries Clinic 12 Portwalk Place. Portsmouth\, NH 03801
UID:e.1659.1168
SEQUENCE:3
DTSTAMP:20260420T031147Z
URL:https://business.portsmouthchamber.org/events/details/free-core-and-butt-exercise-class-01-11-2014-1168
END:VEVENT

END:VCALENDAR
