BEGIN:VCALENDAR
VERSION:2.0
PRODID:-//ChamberMaster//Event Calendar 2.0//EN
METHOD:PUBLISH
X-PUBLISHED-TTL:P3D
REFRESH-INTERVAL:P3D
CALSCALE:GREGORIAN
BEGIN:VEVENT
DTSTART:20160319T130000Z
DTEND:20160319T203000Z
X-MICROSOFT-CDO-ALLDAYEVENT:FALSE
SUMMARY:FREE Homeward Bound Seminar
DESCRIPTION:Homeward Bound is a FREE seminar offered to first-time home buyers. Topics covered include: Covering the 9 Steps to Home Ownership - Pros and Cons of purchasing a home - How much can you afford? - 4 C's\, Capital\, Credit\, Capacity\, Collateral - Get pre-approved for a loan by a lender - What kind of home do you need and want - Begin looking for a house - Sign an offer to purchase - Get a professional inspection - Apply for a mortgage - Close your loan\n\n\n\nWHEN: Saturday\, March 19\, 2016\n\nTIME: 9:00 am-4:30 pm\n\nWHERE: TD Bank 353 Central Ave. Dover\, NH 03820\n\n\n\nThis is a FREE seminar with limited seating\, and registration can be done by e-mail. Contact renee@housingpartnership.org to reserve a seat now!
X-ALT-DESC;FMTTYPE=text/html:Homeward Bound is a FREE seminar offered to first-time home buyers. Topics covered include: Covering the 9 Steps to Home Ownership -&nbsp\;Pros and Cons of purchasing a home - How much can you afford? - 4 C&#39\;s\, Capital\, Credit\, Capacity\, Collateral - Get pre-approved for a loan by a lender - What kind of home do you need and want - Begin looking for a house - Sign an offer to purchase - Get a professional inspection - Apply for a mortgage - Close your loan<br />\n<br />\nWHEN: Saturday\, March 19\, 2016<br />\nTIME: 9:00 am-4:30 pm<br />\nWHERE: TD Bank 353 Central Ave. Dover\, NH 03820<br />\n<br />\nThis is a FREE seminar with limited seating\, and registration can be done by e-mail. Contact renee@housingpartnership.org to reserve a seat now!
LOCATION:TD Bank 353 Central Ave. Dover\, NH 03820
UID:e.1659.16741
SEQUENCE:3
DTSTAMP:20260420T145457Z
URL:https://business.portsmouthchamber.org/events/details/free-homeward-bound-seminar-03-19-2016-16741
END:VEVENT

END:VCALENDAR
