BEGIN:VCALENDAR
VERSION:2.0
PRODID:-//ChamberMaster//Event Calendar 2.0//EN
METHOD:PUBLISH
X-PUBLISHED-TTL:P3D
REFRESH-INTERVAL:P3D
CALSCALE:GREGORIAN
BEGIN:VEVENT
DTSTART:20221116T210000Z
DTEND:20221116T230000Z
X-MICROSOFT-CDO-ALLDAYEVENT:FALSE
SUMMARY:FREE Wine Tasting at Stroll Café & Wine Bar
DESCRIPTION:Join us at Stroll Caf  & Wine Bar for a FREE holiday wine tasting led by the experts at Uncorked NE. Sample our NEW cheese boards too! Enjoy this fun\, FREE\, festive holiday event with us.
X-ALT-DESC;FMTTYPE=text/html:Join us at Stroll Caf&eacute\; &amp\; Wine Bar for a FREE holiday wine tasting led by the experts at Uncorked NE. Sample our NEW cheese boards too! Enjoy this fun\, FREE\, festive holiday event with us.
LOCATION:Stroll Caf & Wine Bar\, 15 Portwalk Place\, Portsmouth
UID:e.1659.58135
SEQUENCE:3
DTSTAMP:20260422T133551Z
URL:https://business.portsmouthchamber.org/events/details/free-wine-tasting-at-stroll-caf&#233;-wine-bar-58135
END:VEVENT

END:VCALENDAR
