BEGIN:VCALENDAR
VERSION:2.0
PRODID:-//ChamberMaster//Event Calendar 2.0//EN
METHOD:PUBLISH
X-PUBLISHED-TTL:P3D
REFRESH-INTERVAL:P3D
CALSCALE:GREGORIAN
BEGIN:VEVENT
DTSTART:20140824T140000Z
DTEND:20140824T213000Z
X-MICROSOFT-CDO-ALLDAYEVENT:FALSE
SUMMARY:Fuller Gardens\, A Turn-of-the-Century Estate Garden
DESCRIPTION:Fuller Gardens is a public botanical garden that was once part of the summer estate of Alvan T. Fuller on the Seacoast of New Hampshire. Its a delightful oasis situated a stones throw from the ocean. The gardens feature horticulture at the highest level\, with thousands of rose bushes and hundreds of varieties that bloom all season long. Formal English perennial borders\, a Japanese Garden and a tropical conservatory are all framed by sculpted hedges. A walk in the garden from 10am-5:30pm every day until October. \n\nOn Thursday August 21st\, join us for the event Reggae Roses\, for a night in the garden\, good cheer\, delicious food\, and lively music. \n\n\n\nWe look forward to your visit!
X-ALT-DESC;FMTTYPE=text/html:Fuller Gardens is a public botanical garden that was once part of the summer estate of Alvan T. Fuller on the Seacoast of New Hampshire. Its a delightful oasis situated a stones throw from the ocean. The gardens feature horticulture at the highest level\, with thousands of rose bushes and hundreds of varieties that bloom all season long. Formal English perennial borders\, a Japanese Garden and a tropical conservatory are all framed by sculpted hedges. A walk in the garden from 10am-5:30pm every day until October.&nbsp\;<br />\nOn Thursday August 21st\, join us for the event Reggae Roses\, for a night in the garden\, good cheer\, delicious food\, and lively music.&nbsp\;<br />\n<br />\nWe look forward to your visit!&nbsp\;<br />\n<br />\n<br />\n&nbsp\;
LOCATION:10 Willow Avenue in North Hampton\, 200 yards north of the intersection of Routes 111 and 1-A 10 W
UID:e.1659.2181
SEQUENCE:3
DTSTAMP:20260419T175441Z
URL:https://business.portsmouthchamber.org/events/details/fuller-gardens-a-turn-of-the-century-estate-garden-08-24-2014-2181
END:VEVENT

END:VCALENDAR
