BEGIN:VCALENDAR
VERSION:2.0
PRODID:-//ChamberMaster//Event Calendar 2.0//EN
METHOD:PUBLISH
X-PUBLISHED-TTL:P3D
REFRESH-INTERVAL:P3D
CALSCALE:GREGORIAN
BEGIN:VEVENT
DTSTART:20141012T160000Z
DTEND:20141013T010000Z
X-MICROSOFT-CDO-ALLDAYEVENT:FALSE
SUMMARY:Furniture Masters: Artistic Visions Grand Gala
DESCRIPTION:The rich tradition of fine furniture making in New Hampshire is alive and well! Those wishing to see works created by the region?s foremost artisans in the field are invited to join the Furniture Masters on Sunday\, October 12 at the Sheraton Portsmouth Harborside Hotel for Furniture Masters 2014: Artistic Visions?Grand Gala. This special event offers attendees an exciting afternoon of fine furniture and immediate access to the artisans who create it. Festivities get underway with a FREE public viewing from 12:00 to 3:30 p.m.\, followed by a ticketed reception and silent auction from 4:00 to 7:00 p.m. Those wishing to continue their fine furniture experience may join the Masters for a private dinner beginning at 7:00 p.m.
X-ALT-DESC;FMTTYPE=text/html:The rich tradition of fine furniture making in New Hampshire is alive and well! Those wishing to see works created by the region?s foremost artisans in the field are invited to join the Furniture Masters on Sunday\, October 12 at the Sheraton Portsmouth Harborside Hotel for Furniture Masters 2014: Artistic Visions?Grand Gala. This special event offers attendees an exciting afternoon of fine furniture and immediate access to the artisans who create it. Festivities get underway with a FREE public viewing from 12:00 to 3:30 p.m.\, followed by a ticketed reception and silent auction from 4:00 to 7:00 p.m. Those wishing to continue their fine furniture experience may join the Masters for a private dinner beginning at 7:00 p.m.
LOCATION:Portsmouth Sheraton Harborside 250 Market Street
UID:e.1659.2993
SEQUENCE:3
DTSTAMP:20260419T144403Z
URL:https://business.portsmouthchamber.org/events/details/furniture-masters-artistic-visions-grand-gala-10-12-2014-2993
END:VEVENT

END:VCALENDAR
