BEGIN:VCALENDAR
VERSION:2.0
PRODID:-//ChamberMaster//Event Calendar 2.0//EN
METHOD:PUBLISH
X-PUBLISHED-TTL:P3D
REFRESH-INTERVAL:P3D
CALSCALE:GREGORIAN
BEGIN:VEVENT
DTSTART:20140919T114500Z
DTEND:20140919T140000Z
X-MICROSOFT-CDO-ALLDAYEVENT:FALSE
SUMMARY:Gear Up and Go Red!
DESCRIPTION:YOU are invited to join The American Heart Association for the Seacoast's Go Red for Women Breakfast! Enjoy a heart-healthy breakfast\, inspirational and educational speakers\, a silent auction and award-winning entertainment!
X-ALT-DESC;FMTTYPE=text/html:YOU are invited to join The American Heart Association for the Seacoast&#39\;s Go Red for Women Breakfast! Enjoy a heart-healthy breakfast\, inspirational and educational speakers\, a silent auction and award-winning entertainment!&nbsp\;
LOCATION:Seacoast Harley-Davidson 17 Lafayette Rd. (Rt. 12. 1) North Hampton\, New Hampshire 03862
UID:e.1659.2420
SEQUENCE:3
DTSTAMP:20260419T174302Z
URL:https://business.portsmouthchamber.org/events/details/gear-up-and-go-red-09-19-2014-2420
END:VEVENT

END:VCALENDAR
