BEGIN:VCALENDAR
VERSION:2.0
PRODID:-//ChamberMaster//Event Calendar 2.0//EN
METHOD:PUBLISH
X-PUBLISHED-TTL:P3D
REFRESH-INTERVAL:P3D
CALSCALE:GREGORIAN
BEGIN:VEVENT
DTSTART:20160117T190000Z
DTEND:20160117T210000Z
X-MICROSOFT-CDO-ALLDAYEVENT:FALSE
SUMMARY:Genealogy Workshops @ PPL
DESCRIPTION:The Portsmouth Public Library continues its popular genealogy workshops for a second year! These events are free\, open to the public\, and appropriate for all levels of interest and experience. We hope you will join us on the third Sunday of each month. Sunday January 17: African American Genealogical and Historical Research in Northern New England\, with Valerie Cunningham. Visit facebook.com/pplnh/events to view all upcoming library events. Visit facebook.com/pplnh/events to view all upcoming library events.
X-ALT-DESC;FMTTYPE=text/html:The Portsmouth Public Library continues its popular genealogy workshops for a second year! These events are free\, open to the public\, and appropriate for all levels of interest and experience. We hope you will join us on the third Sunday of each month. Sunday January 17: African American Genealogical and Historical Research in Northern New England\, with Valerie Cunningham. Visit facebook.com/pplnh/events to view all upcoming library events. Visit facebook.com/pplnh/events to view all upcoming library events.
LOCATION:Portsmouth Public Library 175 Parrott Avenue Portsmouth NH 03801
UID:e.1659.14878
SEQUENCE:3
DTSTAMP:20260420T114153Z
URL:https://business.portsmouthchamber.org/events/details/genealogy-workshops-ppl-01-17-2016-14878
END:VEVENT

END:VCALENDAR
