BEGIN:VCALENDAR
VERSION:2.0
PRODID:-//ChamberMaster//Event Calendar 2.0//EN
METHOD:PUBLISH
X-PUBLISHED-TTL:P3D
REFRESH-INTERVAL:P3D
CALSCALE:GREGORIAN
BEGIN:VEVENT
DTSTART:20160320T180000Z
DTEND:20160320T200000Z
X-MICROSOFT-CDO-ALLDAYEVENT:FALSE
SUMMARY:Genealogy Workshops @ PPL
DESCRIPTION:The Portsmouth Public Library continues its popular genealogy workshops for a second year! These events are free\, open to the public\, and appropriate for all levels of interest and experience. We hope you will join us on the third Sunday of each month. Sunday March 20: Oral History--Family Stories: How and Why to Remember to Tell them\, with Jo Radner. Jo Radner will explain the ?why? and ?how\,? and the importance\, of capturing and passing on family stories\, bringing life to genealogical research! Radner is an award-winning storyteller\, folklorist\, oral historian\, and scholar with a BA\, MA\, and PhD from Harvard University. Visit facebook.com/pplnh/events to view all upcoming library events.
X-ALT-DESC;FMTTYPE=text/html:The Portsmouth Public Library continues its popular genealogy workshops for a second year! These events are free\, open to the public\, and appropriate for all levels of interest and experience. We hope you will join us on the third Sunday of each month. Sunday March 20: Oral History--Family Stories: How and Why to Remember to Tell them\, with Jo Radner. Jo Radner will explain the ?why? and ?how\,? and the importance\, of capturing and passing on family stories\, bringing life to genealogical research! Radner is an award-winning storyteller\, folklorist\, oral historian\, and scholar with a BA\, MA\, and PhD from Harvard University. Visit facebook.com/pplnh/events to view all upcoming library events.
LOCATION:Portsmouth Public Library 175 Parrott Avenue Portsmouth NH 03801
UID:e.1659.14880
SEQUENCE:3
DTSTAMP:20260420T144926Z
URL:https://business.portsmouthchamber.org/events/details/genealogy-workshops-ppl-03-20-2016-14880
END:VEVENT

END:VCALENDAR
