BEGIN:VCALENDAR
VERSION:2.0
PRODID:-//ChamberMaster//Event Calendar 2.0//EN
METHOD:PUBLISH
X-PUBLISHED-TTL:P3D
REFRESH-INTERVAL:P3D
CALSCALE:GREGORIAN
BEGIN:VEVENT
DTSTART:20141024T220000Z
DTEND:20141026T000000Z
X-MICROSOFT-CDO-ALLDAYEVENT:FALSE
SUMMARY:Ghosts on the Banke
DESCRIPTION:Come and meet the Ghosts on the Banke at Strawbery Banke's famous Halloween celebration. Long-dead sea captains\, 17th century shopkeepers and wayward pirates haunt the streets of Portsmouth's oldest neighborhood as you trick or treat safely from house to historic house.
X-ALT-DESC;FMTTYPE=text/html:<span style="color: rgb(68\, 68\, 68)\; line-height: 17.15px\; font-family: Helvetica\, Arial\, FreeSans\, sans-serif\; font-size: 13px\; background-color: rgb(255\, 255\, 255)\;">Come and meet the Ghosts on the Banke at Strawbery Banke&rsquo\;s famous Halloween celebration. Long-dead sea captains\, 17th century shopkeepers and wayward pirates haunt the streets of Portsmouth&rsquo\;s oldest neighborhood as you trick or treat safely from house to historic house.&nbsp\;</span>
LOCATION:Strawbery Banke Museum\, October 24&25\, 6-8pm
UID:e.1659.2149
SEQUENCE:3
DTSTAMP:20260419T143948Z
URL:https://business.portsmouthchamber.org/events/details/ghosts-on-the-banke-10-24-2014-2149
END:VEVENT

END:VCALENDAR
