BEGIN:VCALENDAR
VERSION:2.0
PRODID:-//ChamberMaster//Event Calendar 2.0//EN
METHOD:PUBLISH
X-PUBLISHED-TTL:P3D
REFRESH-INTERVAL:P3D
CALSCALE:GREGORIAN
BEGIN:VEVENT
DTSTART:20251205T223000Z
DTEND:20251206T003000Z
X-MICROSOFT-CDO-ALLDAYEVENT:FALSE
SUMMARY:Gingerbread Reception and Awards Party
DESCRIPTION:Gingerbread Reception and Judge's Awards\n\nFriday\, December 5\, 5:30 7:30 pm\n\nJoin the Portsmouth Historical Society to celebrate the opening of the 35th Annual Gingerbread House Contest and Exhibition! Get in the holiday spirit and see our marvelous cookie creations\, while also enjoying some cider and small treats. Stay for the big reveal of the winners of our Judges' Choice prizes!\n\nThis event is free and open to the public.
X-ALT-DESC;FMTTYPE=text/html:<h2 style="text-align:center">Gingerbread Reception and Judge&rsquo\;s Awards</h2>\n\n<h3 style="text-align:center">Friday\, December 5\, 5:30&ndash\;7:30 pm</h3>\n\n<p>Join the Portsmouth Historical Society to celebrate the opening of the 35th Annual Gingerbread House Contest and Exhibition! Get in the holiday spirit and see our marvelous cookie creations\, while also enjoying some cider and small treats. Stay for the big reveal of the winners of our Judges&rsquo\; Choice prizes!</p>\n\n<h4>This event is free and open to the public.</h4>\n
LOCATION:Portsmouth Historical Society 10 Middle Street\, Portsmouth NH
UID:e.1659.87017
SEQUENCE:3
DTSTAMP:20260423T150546Z
URL:https://business.portsmouthchamber.org/events/details/gingerbread-reception-and-awards-party-87017
END:VEVENT

END:VCALENDAR
