BEGIN:VCALENDAR
VERSION:2.0
PRODID:-//ChamberMaster//Event Calendar 2.0//EN
METHOD:PUBLISH
X-PUBLISHED-TTL:P3D
REFRESH-INTERVAL:P3D
CALSCALE:GREGORIAN
BEGIN:VEVENT
DTSTART:20130912T210000Z
DTEND:20130913T000000Z
X-MICROSOFT-CDO-ALLDAYEVENT:FALSE
SUMMARY:Girls Night Out
DESCRIPTION:This free mall-wide event features Fun\, Fashion\, Food & Wine! Grab your friends and enjoy an evening of beauty tips\, demos\, fashion\, health and wellness\, music\, shopping discounts\, prize giveaways & much more! Plus relax with a mini-wine tour featuring wines from the Seacoast Wine Trail! Don?t forget\, fabulous swag bags will be available while supplies last.  If you're a local business interested in participating as a vendor\, please call 603-431-5951 or email jlevitt@simon.com.
X-ALT-DESC;FMTTYPE=text/html:This free mall-wide event features Fun\, Fashion\, Food &amp\; Wine! Grab your friends and enjoy an evening of beauty tips\, demos\, fashion\, health and wellness\, music\, shopping discounts\, prize giveaways &amp\; much more! Plus relax with a mini-wine tour featuring wines from the Seacoast Wine Trail! Don?t forget\, fabulous swag bags will be available while supplies last.&nbsp\; If you&#39\;re a local business interested in participating as a vendor\, please call 603-431-5951 or email jlevitt@simon.com.&nbsp\;
LOCATION:Fox Run Mall
UID:e.1659.578
SEQUENCE:3
DTSTAMP:20260422T085959Z
URL:https://business.portsmouthchamber.org/events/details/girls-night-out-09-12-2013-578
END:VEVENT

END:VCALENDAR
