BEGIN:VCALENDAR
VERSION:2.0
PRODID:-//ChamberMaster//Event Calendar 2.0//EN
METHOD:PUBLISH
X-PUBLISHED-TTL:P3D
REFRESH-INTERVAL:P3D
CALSCALE:GREGORIAN
BEGIN:VEVENT
DTSTART;VALUE=DATE:20141028
DTEND;VALUE=DATE:20141029
TRANSP:TRANSPARENT
X-MICROSOFT-CDO-ALLDAYEVENT:TRUE
SUMMARY:Giving Tuesdays at Redhook to Benefit Blue Ocean Society
DESCRIPTION:Drink Some Ale to Save a Whale!\n\nGiving Tuesdays\n\nRedhook Brewery\, Portsmouth\, NH\n\n \n\nEvery Tuesday in October\, 10% of Redhook's proceeds will be donated to Blue Ocean Society for Marine Conservation. Isn't that great? If you're looking for great food and beverages\, head over to Redhook on Tuesdays in October!
X-ALT-DESC;FMTTYPE=text/html:<div>Drink Some Ale to Save a Whale!</div>\n\n<div>Giving Tuesdays</div>\n\n<div>Redhook Brewery\, Portsmouth\, NH</div>\n\n<div>&nbsp\;</div>\n\n<div>Every Tuesday in October\, 10% of Redhook&#39\;s proceeds will be donated to Blue Ocean Society for Marine Conservation. Isn&#39\;t that great? If you&#39\;re looking for great food and beverages\, head over to Redhook on Tuesdays in October!</div>\n
LOCATION:1 Redhook Way\, Portsmouth\, NH 03801
UID:e.1659.3470
SEQUENCE:3
DTSTAMP:20260419T144757Z
URL:https://business.portsmouthchamber.org/events/details/giving-tuesdays-at-redhook-to-benefit-blue-ocean-society-10-28-2014-3470
END:VEVENT

END:VCALENDAR
