BEGIN:VCALENDAR
VERSION:2.0
PRODID:-//ChamberMaster//Event Calendar 2.0//EN
METHOD:PUBLISH
X-PUBLISHED-TTL:P3D
REFRESH-INTERVAL:P3D
CALSCALE:GREGORIAN
BEGIN:VEVENT
DTSTART:20141009T213000Z
DTEND:20141009T233000Z
X-MICROSOFT-CDO-ALLDAYEVENT:FALSE
SUMMARY:Glow in the Dark Dinner at the Seacoast Science Center
DESCRIPTION:The evening kicks off with a family-style pasta dinner. Then\, children will join Center naturalists to learn about bioluminescent creatures of the deep sea and engage in fun learning activities. Kids can dare to swim through the Hall of Bioluminescences\, make a glowing sea creature of their imagination\, and play Florescent Flashlight Tag\, earning treats along the way. While the kids are engaged\, adults will join will join NOAA Ocean Explorer Dr. Charles Mazel for an image-rich recount of his pioneering explorations in underwater florescence. You?ll learn about the phenomenon of bioluminescence and the find out why the phenomenon is still puzzling scientists today. You?ll also discover how researchers are putting the florescence of marine organisms to valuable use.
X-ALT-DESC;FMTTYPE=text/html:The evening kicks off with a family-style pasta dinner. Then\, children will join Center naturalists to learn about bioluminescent creatures of the deep sea and engage in fun learning activities. Kids can dare to swim through the Hall of Bioluminescences\, make a glowing sea creature of their imagination\, and play Florescent Flashlight Tag\, earning treats along the way. While the kids are engaged\, adults will join will join NOAA Ocean Explorer Dr. Charles Mazel for an image-rich recount of his pioneering explorations in underwater florescence. You?ll learn about the phenomenon of bioluminescence and the find out why the phenomenon is still puzzling scientists today. You?ll also discover how researchers are putting the florescence of marine organisms to valuable use.
LOCATION:Seacoast Science Center
UID:e.1659.2959
SEQUENCE:3
DTSTAMP:20260419T144402Z
URL:https://business.portsmouthchamber.org/events/details/glow-in-the-dark-dinner-at-the-seacoast-science-center-10-09-2014-2959
END:VEVENT

END:VCALENDAR
