BEGIN:VCALENDAR
VERSION:2.0
PRODID:-//ChamberMaster//Event Calendar 2.0//EN
METHOD:PUBLISH
X-PUBLISHED-TTL:P3D
REFRESH-INTERVAL:P3D
CALSCALE:GREGORIAN
BEGIN:VEVENT
DTSTART;VALUE=DATE:20140920
DTEND;VALUE=DATE:20140921
TRANSP:TRANSPARENT
X-MICROSOFT-CDO-ALLDAYEVENT:TRUE
SUMMARY:Gosport Regatta
DESCRIPTION:The fifth annual Gosport Regatta will set sail from the start line in the Piscataqua River Basin on Saturday\, September 20.
X-ALT-DESC;FMTTYPE=text/html:The fifth annual Gosport Regatta will set sail from the start line in the Piscataqua River Basin on Saturday\, September 20.&nbsp\;
LOCATION:
UID:e.1659.2143
SEQUENCE:3
DTSTAMP:20260419T161150Z
URL:https://business.portsmouthchamber.org/events/details/gosport-regatta-09-20-2014-2143
END:VEVENT

END:VCALENDAR
