BEGIN:VCALENDAR
VERSION:2.0
PRODID:-//ChamberMaster//Event Calendar 2.0//EN
METHOD:PUBLISH
X-PUBLISHED-TTL:P3D
REFRESH-INTERVAL:P3D
CALSCALE:GREGORIAN
BEGIN:VEVENT
DTSTART:20130906T120000Z
DTEND:20130906T140000Z
X-MICROSOFT-CDO-ALLDAYEVENT:FALSE
SUMMARY:Government Affairs - Carol Shea Porter
DESCRIPTION:Government Affairs event with guest speaker Carol Shea Porter.
X-ALT-DESC;FMTTYPE=text/html:Government Affairs event with guest speaker Carol Shea Porter.
LOCATION:Seacoast Media Group
UID:e.1659.541
SEQUENCE:3
DTSTAMP:20260420T084841Z
URL:https://business.portsmouthchamber.org/events/details/government-affairs-carol-shea-porter-09-06-2013-541
END:VEVENT

END:VCALENDAR
